BEGIN:VCALENDAR
VERSION:2.0
PRODID:spatie/icalendar-generator
NAME:Očkovanie (nielen) v špeciálnych situáciách<br>(17. časť)
X-WR-CALNAME:Očkovanie (nielen) v špeciálnych situáciách<br>(17. čas
 ť)
BEGIN:VTIMEZONE
TZID:Europe/Prague
BEGIN:DAYLIGHT
DTSTART:20260329T010000
TZOFFSETFROM:+0100
TZOFFSETTO:+0200
END:DAYLIGHT
BEGIN:STANDARD
DTSTART:20261025T030000
TZOFFSETFROM:+0200
TZOFFSETTO:+0100
END:STANDARD
END:VTIMEZONE
BEGIN:VTIMEZONE
TZID:UTC
BEGIN:STANDARD
DTSTART:20250724T031549
TZOFFSETFROM:+0000
TZOFFSETTO:+0000
END:STANDARD
END:VTIMEZONE
BEGIN:VEVENT
UID:747
DTSTAMP:20260420T031549Z
SUMMARY:Očkovanie (nielen) v špeciálnych situáciách<br>(17. časť)
DESCRIPTION:Popiska k podujatiu\n\n		
DTSTART;TZID=Europe/Prague:20260923T160000
DTEND;TZID=Europe/Prague:20260923T180000
END:VEVENT
END:VCALENDAR