BEGIN:VCALENDAR
VERSION:2.0
PRODID:spatie/icalendar-generator
NAME:2. Onkogynekológia na Slovensku<br>Ponťuchov deň
X-WR-CALNAME:2. Onkogynekológia na Slovensku<br>Ponťuchov deň
BEGIN:VTIMEZONE
TZID:Europe/Prague
BEGIN:STANDARD
DTSTART:20251026T030000
TZOFFSETFROM:+0200
TZOFFSETTO:+0100
END:STANDARD
BEGIN:DAYLIGHT
DTSTART:20260329T010000
TZOFFSETFROM:+0100
TZOFFSETTO:+0200
END:DAYLIGHT
BEGIN:STANDARD
DTSTART:20261025T030000
TZOFFSETFROM:+0200
TZOFFSETTO:+0100
END:STANDARD
END:VTIMEZONE
BEGIN:VTIMEZONE
TZID:UTC
BEGIN:STANDARD
DTSTART:20250724T191730
TZOFFSETFROM:+0000
TZOFFSETTO:+0000
END:STANDARD
END:VTIMEZONE
BEGIN:VEVENT
UID:775
DTSTAMP:20260420T191730Z
SUMMARY:2. Onkogynekológia na Slovensku<br>Ponťuchov deň
DESCRIPTION:\n\n		
DTSTART;TZID=Europe/Prague:20260612T080000
DTEND;TZID=Europe/Prague:20260613T160000
END:VEVENT
END:VCALENDAR