BEGIN:VCALENDAR
VERSION:2.0
PRODID:spatie/icalendar-generator
NAME:Deň detskej alergológie\, pneumológie a imunológie 2026 (DDAPI)
X-WR-CALNAME:Deň detskej alergológie\, pneumológie a imunológie 2026 (D
 DAPI)
BEGIN:VTIMEZONE
TZID:Europe/Prague
BEGIN:DAYLIGHT
DTSTART:20260329T010000
TZOFFSETFROM:+0100
TZOFFSETTO:+0200
END:DAYLIGHT
BEGIN:STANDARD
DTSTART:20261025T030000
TZOFFSETFROM:+0200
TZOFFSETTO:+0100
END:STANDARD
BEGIN:DAYLIGHT
DTSTART:20270328T010000
TZOFFSETFROM:+0100
TZOFFSETTO:+0200
END:DAYLIGHT
END:VTIMEZONE
BEGIN:VTIMEZONE
TZID:UTC
BEGIN:STANDARD
DTSTART:20250727T163520
TZOFFSETFROM:+0000
TZOFFSETTO:+0000
END:STANDARD
END:VTIMEZONE
BEGIN:VEVENT
UID:786
DTSTAMP:20260423T163520Z
SUMMARY:Deň detskej alergológie\, pneumológie a imunológie 2026 (DDAPI)
DESCRIPTION:\n\n		
DTSTART;TZID=Europe/Prague:20261209T080000
DTEND;TZID=Europe/Prague:20261209T170000
END:VEVENT
END:VCALENDAR